BEGIN:VCALENDAR
VERSION:2.0
PRODID:-//Akurskóli//Skóladagatal 2026-2027//IS
BEGIN:VEVENT
UID:20260811-4445300566865836786@akurskoli.is
DTSTART;VALUE=DATE:20260811
DTEND;VALUE=DATE:20260812
SUMMARY:Sumarfrístund fyrir 1. bekk
TRANSP:TRANSPARENT
END:VEVENT
BEGIN:VEVENT
UID:20260812-4445300566865836786@akurskoli.is
DTSTART;VALUE=DATE:20260812
DTEND;VALUE=DATE:20260813
SUMMARY:Sumarfrístund fyrir 1. bekk
TRANSP:TRANSPARENT
END:VEVENT
BEGIN:VEVENT
UID:20260813-4445300566865836786@akurskoli.is
DTSTART;VALUE=DATE:20260813
DTEND;VALUE=DATE:20260814
SUMMARY:Sumarfrístund fyrir 1. bekk
TRANSP:TRANSPARENT
END:VEVENT
BEGIN:VEVENT
UID:20260814-4445300566865836786@akurskoli.is
DTSTART;VALUE=DATE:20260814
DTEND;VALUE=DATE:20260815
SUMMARY:Sumarfrístund fyrir 1. bekk
TRANSP:TRANSPARENT
END:VEVENT
BEGIN:VEVENT
UID:20260817-4445300566865836786@akurskoli.is
DTSTART;VALUE=DATE:20260817
DTEND;VALUE=DATE:20260818
SUMMARY:Sumarfrístund fyrir 1. bekk
TRANSP:TRANSPARENT
END:VEVENT
BEGIN:VEVENT
UID:20260818-4445300566865836786@akurskoli.is
DTSTART;VALUE=DATE:20260818
DTEND;VALUE=DATE:20260819
SUMMARY:Sumarfrístund fyrir 1. bekk
TRANSP:TRANSPARENT
END:VEVENT
BEGIN:VEVENT
UID:20260819-4445300566865836786@akurskoli.is
DTSTART;VALUE=DATE:20260819
DTEND;VALUE=DATE:20260820
SUMMARY:Sumarfrístund fyrir 1. bekk
TRANSP:TRANSPARENT
END:VEVENT
BEGIN:VEVENT
UID:20260820-4445300566865836786@akurskoli.is
DTSTART;VALUE=DATE:20260820
DTEND;VALUE=DATE:20260821
SUMMARY:Sumarfrístund fyrir 1. bekk
TRANSP:TRANSPARENT
END:VEVENT
BEGIN:VEVENT
UID:20260821-4445300566865836786@akurskoli.is
DTSTART;VALUE=DATE:20260821
DTEND;VALUE=DATE:20260822
SUMMARY:Sumarfrístund fyrir 1. bekk
TRANSP:TRANSPARENT
END:VEVENT
BEGIN:VEVENT
UID:20260824-4445300566865836786@akurskoli.is
DTSTART;VALUE=DATE:20260824
DTEND;VALUE=DATE:20260825
SUMMARY:Sumarfrístund fyrir 1. bekk
TRANSP:TRANSPARENT
END:VEVENT
BEGIN:VEVENT
UID:20260825-241652074529218911@akurskoli.is
DTSTART;VALUE=DATE:20260825
DTEND;VALUE=DATE:20260826
SUMMARY:Skóli hefst/skertur nem. dagur
TRANSP:TRANSPARENT
END:VEVENT
BEGIN:VEVENT
UID:20260903--1313180039314935794@akurskoli.is
DTSTART;VALUE=DATE:20260903
DTEND;VALUE=DATE:20260904
SUMMARY:Setning Ljósanætur/ Uppbrot
TRANSP:TRANSPARENT
END:VEVENT
BEGIN:VEVENT
UID:20260911--5756921026338181377@akurskoli.is
DTSTART;VALUE=DATE:20260911
DTEND;VALUE=DATE:20260912
SUMMARY:Læsisráðstefna/ Skertur nem.dagur
TRANSP:TRANSPARENT
END:VEVENT
BEGIN:VEVENT
UID:20260918-6478984729888082478@akurskoli.is
DTSTART;VALUE=DATE:20260918
DTEND;VALUE=DATE:20260919
SUMMARY:Uppbrot/Ólympíuhlaup ÍSÍ
TRANSP:TRANSPARENT
END:VEVENT
BEGIN:VEVENT
UID:20260924-3457510226539775290@akurskoli.is
DTSTART;VALUE=DATE:20260924
DTEND;VALUE=DATE:20260925
SUMMARY:Samtalsdagur/ Skertur nem. dagur
TRANSP:TRANSPARENT
END:VEVENT
BEGIN:VEVENT
UID:20261022--6714241029801647528@akurskoli.is
DTSTART;VALUE=DATE:20261022
DTEND;VALUE=DATE:20261023
SUMMARY:Skertur nem. dagur
TRANSP:TRANSPARENT
END:VEVENT
BEGIN:VEVENT
UID:20261023-9107425492682443483@akurskoli.is
DTSTART;VALUE=DATE:20261023
DTEND;VALUE=DATE:20261024
SUMMARY:Vetrarfrí
TRANSP:TRANSPARENT
END:VEVENT
BEGIN:VEVENT
UID:20261026-9107425492682443483@akurskoli.is
DTSTART;VALUE=DATE:20261026
DTEND;VALUE=DATE:20261027
SUMMARY:Vetrarfrí
TRANSP:TRANSPARENT
END:VEVENT
BEGIN:VEVENT
UID:20261112-695480523609919082@akurskoli.is
DTSTART;VALUE=DATE:20261112
DTEND;VALUE=DATE:20261113
SUMMARY:Þema/Uppbrot
TRANSP:TRANSPARENT
END:VEVENT
BEGIN:VEVENT
UID:20261113-695480523609919082@akurskoli.is
DTSTART;VALUE=DATE:20261113
DTEND;VALUE=DATE:20261114
SUMMARY:Þema/Uppbrot
TRANSP:TRANSPARENT
END:VEVENT
BEGIN:VEVENT
UID:20261123--1570287083516414212@akurskoli.is
DTSTART;VALUE=DATE:20261123
DTEND;VALUE=DATE:20261124
SUMMARY:Starfsdagur
TRANSP:TRANSPARENT
END:VEVENT
BEGIN:VEVENT
UID:20261201--6287528364166333399@akurskoli.is
DTSTART;VALUE=DATE:20261201
DTEND;VALUE=DATE:20261202
SUMMARY:Fullveldisdagurinn/uppbrot
TRANSP:TRANSPARENT
END:VEVENT
BEGIN:VEVENT
UID:20261218--2920231442494977414@akurskoli.is
DTSTART;VALUE=DATE:20261218
DTEND;VALUE=DATE:20261219
SUMMARY:Jólahátíð/skertur nem. dagur
TRANSP:TRANSPARENT
END:VEVENT
BEGIN:VEVENT
UID:20270104--6295979791279949566@akurskoli.is
DTSTART;VALUE=DATE:20270104
DTEND;VALUE=DATE:20270105
SUMMARY:Kennsla hefst eftir jólafrí/Skertur nem.dagur Byrjum kl. 10:00
TRANSP:TRANSPARENT
END:VEVENT
BEGIN:VEVENT
UID:20270106-1627451852711211174@akurskoli.is
DTSTART;VALUE=DATE:20270106
DTEND;VALUE=DATE:20270107
SUMMARY:Þrettándinn/uppbrot
TRANSP:TRANSPARENT
END:VEVENT
BEGIN:VEVENT
UID:20270112--1570287083516414212@akurskoli.is
DTSTART;VALUE=DATE:20270112
DTEND;VALUE=DATE:20270113
SUMMARY:Starfsdagur
TRANSP:TRANSPARENT
END:VEVENT
BEGIN:VEVENT
UID:20270127-3457510226539775290@akurskoli.is
DTSTART;VALUE=DATE:20270127
DTEND;VALUE=DATE:20270128
SUMMARY:Samtalsdagur/ Skertur nem. dagur
TRANSP:TRANSPARENT
END:VEVENT
BEGIN:VEVENT
UID:20270210--4806721295132183903@akurskoli.is
DTSTART;VALUE=DATE:20270210
DTEND;VALUE=DATE:20270211
SUMMARY:Öskudagur/skertur nem. dagur
TRANSP:TRANSPARENT
END:VEVENT
BEGIN:VEVENT
UID:20270211-9107425492682443483@akurskoli.is
DTSTART;VALUE=DATE:20270211
DTEND;VALUE=DATE:20270212
SUMMARY:Vetrarfrí
TRANSP:TRANSPARENT
END:VEVENT
BEGIN:VEVENT
UID:20270212-9107425492682443483@akurskoli.is
DTSTART;VALUE=DATE:20270212
DTEND;VALUE=DATE:20270213
SUMMARY:Vetrarfrí
TRANSP:TRANSPARENT
END:VEVENT
BEGIN:VEVENT
UID:20270408--2465860053991388613@akurskoli.is
DTSTART;VALUE=DATE:20270408
DTEND;VALUE=DATE:20270409
SUMMARY:Uppbrot
TRANSP:TRANSPARENT
END:VEVENT
BEGIN:VEVENT
UID:20270409-3065463157515547123@akurskoli.is
DTSTART;VALUE=DATE:20270409
DTEND;VALUE=DATE:20270410
SUMMARY:Árshátíð/skertur nem. dagur
TRANSP:TRANSPARENT
END:VEVENT
BEGIN:VEVENT
UID:20270421--1570287083516414212@akurskoli.is
DTSTART;VALUE=DATE:20270421
DTEND;VALUE=DATE:20270422
SUMMARY:Starfsdagur
TRANSP:TRANSPARENT
END:VEVENT
BEGIN:VEVENT
UID:20270423--1570287083516414212@akurskoli.is
DTSTART;VALUE=DATE:20270423
DTEND;VALUE=DATE:20270424
SUMMARY:Starfsdagur
TRANSP:TRANSPARENT
END:VEVENT
BEGIN:VEVENT
UID:20270526--1570287083516414212@akurskoli.is
DTSTART;VALUE=DATE:20270526
DTEND;VALUE=DATE:20270527
SUMMARY:Starfsdagur
TRANSP:TRANSPARENT
END:VEVENT
BEGIN:VEVENT
UID:20270607-695480523609919082@akurskoli.is
DTSTART;VALUE=DATE:20270607
DTEND;VALUE=DATE:20270608
SUMMARY:Þema/Uppbrot
TRANSP:TRANSPARENT
END:VEVENT
BEGIN:VEVENT
UID:20270608-695480523609919082@akurskoli.is
DTSTART;VALUE=DATE:20270608
DTEND;VALUE=DATE:20270609
SUMMARY:Þema/Uppbrot
TRANSP:TRANSPARENT
END:VEVENT
BEGIN:VEVENT
UID:20270609-9012195699361716988@akurskoli.is
DTSTART;VALUE=DATE:20270609
DTEND;VALUE=DATE:20270610
SUMMARY:Þema/Uppbrot/útskrift 10. bekkjar
TRANSP:TRANSPARENT
END:VEVENT
BEGIN:VEVENT
UID:20270610--6565803492405626587@akurskoli.is
DTSTART;VALUE=DATE:20270610
DTEND;VALUE=DATE:20270611
SUMMARY:Skólaslit/Skertur nem. dagur
TRANSP:TRANSPARENT
END:VEVENT
END:VCALENDAR